BEGIN:VCALENDAR
VERSION:2.0
PRODID:-//Sac Wine and Ale - ECPv6.15.18//NONSGML v1.0//EN
CALSCALE:GREGORIAN
METHOD:PUBLISH
X-WR-CALNAME:Sac Wine and Ale
X-ORIGINAL-URL:https://sacwineandale.com
X-WR-CALDESC:Events for Sac Wine and Ale
REFRESH-INTERVAL;VALUE=DURATION:PT1H
X-Robots-Tag:noindex
X-PUBLISHED-TTL:PT1H
BEGIN:VTIMEZONE
TZID:America/Los_Angeles
BEGIN:DAYLIGHT
TZOFFSETFROM:-0800
TZOFFSETTO:-0700
TZNAME:PDT
DTSTART:20230312T100000
END:DAYLIGHT
BEGIN:STANDARD
TZOFFSETFROM:-0700
TZOFFSETTO:-0800
TZNAME:PST
DTSTART:20231105T090000
END:STANDARD
BEGIN:DAYLIGHT
TZOFFSETFROM:-0800
TZOFFSETTO:-0700
TZNAME:PDT
DTSTART:20240310T100000
END:DAYLIGHT
BEGIN:STANDARD
TZOFFSETFROM:-0700
TZOFFSETTO:-0800
TZNAME:PST
DTSTART:20241103T090000
END:STANDARD
BEGIN:DAYLIGHT
TZOFFSETFROM:-0800
TZOFFSETTO:-0700
TZNAME:PDT
DTSTART:20250309T100000
END:DAYLIGHT
BEGIN:STANDARD
TZOFFSETFROM:-0700
TZOFFSETTO:-0800
TZNAME:PST
DTSTART:20251102T090000
END:STANDARD
END:VTIMEZONE
BEGIN:VEVENT
DTSTART;TZID=America/Los_Angeles:20241005T100000
DTEND;TZID=America/Los_Angeles:20241006T170000
DTSTAMP:20260422T122845
CREATED:20230301T224607Z
LAST-MODIFIED:20240118T201907Z
UID:15186-1728122400-1728234000@sacwineandale.com
SUMMARY:Amador Vintners - Big Crush
DESCRIPTION:5 Wineries in Amador Wine Country\nSaturday\, October 5th to Sunday\, October 6th\, 2024\nEach year\, we celebrate the grape harvest by inviting our friends to join our member wineries to get in on the most exciting time of year. Visit our participating wineries where you will be welcomed to the scenic foothills of Amador Wine Country by the entire wine community. \nTickets include wine tasting and harvest experiences at 6 different wineries each day. Ticket holders will receive a commemorative glass that they can use to enjoy tailored wine tasting flights alongside a variety of harvest-related experiences\, small bites\, and live music.
URL:https://sacwineandale.com/event/amador-vintners-big-crush/
LOCATION:Amador Vintners Wineries
CATEGORIES:Amador County
ATTACH;FMTTYPE=image/png:https://sacwineandale.com/wp-content/uploads/2023/03/download-1.png
END:VEVENT
END:VCALENDAR