BEGIN:VCALENDAR
VERSION:2.0
PRODID:-//Sac Wine and Ale - ECPv6.15.18//NONSGML v1.0//EN
CALSCALE:GREGORIAN
METHOD:PUBLISH
X-ORIGINAL-URL:https://sacwineandale.com
X-WR-CALDESC:Events for Sac Wine and Ale
REFRESH-INTERVAL;VALUE=DURATION:PT1H
X-Robots-Tag:noindex
X-PUBLISHED-TTL:PT1H
BEGIN:VTIMEZONE
TZID:America/Los_Angeles
BEGIN:DAYLIGHT
TZOFFSETFROM:-0800
TZOFFSETTO:-0700
TZNAME:PDT
DTSTART:20230312T100000
END:DAYLIGHT
BEGIN:STANDARD
TZOFFSETFROM:-0700
TZOFFSETTO:-0800
TZNAME:PST
DTSTART:20231105T090000
END:STANDARD
BEGIN:DAYLIGHT
TZOFFSETFROM:-0800
TZOFFSETTO:-0700
TZNAME:PDT
DTSTART:20240310T100000
END:DAYLIGHT
BEGIN:STANDARD
TZOFFSETFROM:-0700
TZOFFSETTO:-0800
TZNAME:PST
DTSTART:20241103T090000
END:STANDARD
BEGIN:DAYLIGHT
TZOFFSETFROM:-0800
TZOFFSETTO:-0700
TZNAME:PDT
DTSTART:20250309T100000
END:DAYLIGHT
BEGIN:STANDARD
TZOFFSETFROM:-0700
TZOFFSETTO:-0800
TZNAME:PST
DTSTART:20251102T090000
END:STANDARD
END:VTIMEZONE
BEGIN:VEVENT
DTSTART;VALUE=DATE:20240504
DTEND;VALUE=DATE:20240505
DTSTAMP:20260422T175507
CREATED:20230509T165417Z
LAST-MODIFIED:20230509T165417Z
UID:15268-1714780800-1714867199@sacwineandale.com
SUMMARY:Amador Four Fires Wine & Food Festival
DESCRIPTION:50 Wineries in Amador Wine Country\nImmerse Yourself in a Total Sensory Experience\nMay 4\, 2024 \nAmador Four Fires\, a unique food and wine experience\, blends open-flame outdoor cooking by renown local chefs\, intimate seminars fueled by acclaimed local winemakers\, and tastings from Amador’s wine varietals inspired by four celebrated wine regions: Rhone\, Italy\, Spain\, and Heritage California. \nHeld at the expansive and historic Amador County Fair and Events Center Events with a park like setting in a real\, historic Gold Rush era backdrop. \nEnjoy over 100 award-winning red wines that have received 90 points or more\, received gold medals\, and small lot or reserve wines that you can only taste in Amador. Learn about wines: seminars are 30 minutes with speakers upfront and up close. Engage in topics such as Beer vs. Wine\, Wine and Food Pairings\, and Unique Varietals Grown in Amador. \nMeet local vendors. Enjoy Amador Brewing’s locally crafted beer. Sample local purveyors of sauces\, olive oils\, crafts\, and more. Take the festival home with you!
URL:https://sacwineandale.com/event/amador-four-fires-wine-food-festival/
LOCATION:Amador County Fairgrounds\, 18621 Sherwood St\, Plymouth\, CA\, United States
CATEGORIES:Amador County
ATTACH;FMTTYPE=image/png:https://sacwineandale.com/wp-content/uploads/2023/05/download.png
END:VEVENT
END:VCALENDAR